BEGIN:VCALENDAR
VERSION:2.0
PRODID:-//Tukios.com/
BEGIN:VEVENT
UID:ec232e6d-7c80-402e-84df-bcaadee937b3@www.botetourtfh.com
DTSTAMP:20260422T175841Z
DTSTART:20260423T150000Z
DTEND:20260423T160000Z
SUMMARY:Memorial Service
DESCRIPTION:
URL:https://www.botetourtfh.com/obituaries/charles-epperly-jr
LOCATION: 14920 Lee Highway  Buchanan VA 24066
GEO:37.4984383;-79.7539046
END:VEVENT
END:VCALENDAR